Workbook
Name Table1: " "

Sheet Team Card
A2: Team Name: | C2: Big Buddha | G2: Wins: | H2: =GAMES!B4 -> 12
B3: Games Played: | C3: =SUM(GAMES!M9:M617) -> 20 | G3: Losses: | H3: =GAMES!B5 -> 8
B6: Players | D6: GP | E6: PA | F6: AB | G6: H | H6: Runs | I6: RBIs | J6: SAC | K6: BB | L6: HR | M6: BA | P6: Playoff Eligible?
A7: 1 | B7: Tony Willie | D7: =SUM(GAMES!B12,GAMES!B44,GAMES!B76,GAMES!B108,GAMES!B140,GAMES!B172,GAMES!B204,GAMES!B236,GAMES!B268,GAMES!B300,GAMES!B332,GAMES!B364,GAMES!B396,GAMES!B428,GAMES!B460,GAMES!B492,GAMES!B524,GAMES!B556,GAMES!B588,GAMES!B620) -> 17 | E7: =SUM(GAMES!C12,GAMES!C44,GAMES!C76,GAMES!C108,GAMES!C140,GAMES!C172,GAMES!C204,GAMES!C236,GAMES!C268,GAMES!C300,GAMES!C332,GAMES!C364,GAMES!C396,GAMES!C428,GAMES!C460,GAMES!C492,GAMES!C524,GAMES!C556,GAMES!C588,GAMES!C620) -> 63 | F7: =SUM(GAMES!D12,GAMES!D44,GAMES!D76,GAMES!D108,GAMES!D140,GAMES!D172,GAMES!D204,GAMES!D236,GAMES!D268,GAMES!D300,GAMES!D332,GAMES!D364,GAMES!D396,GAMES!D428,GAMES!D460,GAMES!D492,GAMES!D524,GAMES!D556,GAMES!D588,GAMES!D620) -> 56 | G7: =SUM(GAMES!E12,GAMES!E44,GAMES!E76,GAMES!E108,GAMES!E140,GAMES!E172,GAMES!E204,GAMES!E236,GAMES!E268,GAMES!E300,GAMES!E332,GAMES!E364,GAMES!E396,GAMES!E428,GAMES!E460,GAMES!E492,GAMES!E524,GAMES!E556,GAMES!E588,GAMES!E620) -> 25 | H7: =SUM(GAMES!F12,GAMES!F44,GAMES!F76,GAMES!F108,GAMES!F140,GAMES!F172,GAMES!F204,GAMES!F236,GAMES!F268,GAMES!F300,GAMES!F332,GAMES!F364,GAMES!F396,GAMES!F428,GAMES!F460,GAMES!F492,GAMES!F524,GAMES!F556,GAMES!F588,GAMES!F620) -> 24 | I7: =SUM(GAMES!G12,GAMES!G44,GAMES!G76,GAMES!G108,GAMES!G140,GAMES!G172,GAMES!G204,GAMES!G236,GAMES!G268,GAMES!G300,GAMES!G332,GAMES!G364,GAMES!G396,GAMES!G428,GAMES!G460,GAMES!G492,GAMES!G524,GAMES!G556,GAMES!G588,GAMES!G620) -> 22 | J7: =SUM(GAMES!H12,GAMES!H44,GAMES!H76,GAMES!H108,GAMES!H140,GAMES!H172,GAMES!H204,GAMES!H236,GAMES!H268,GAMES!H300,GAMES!H332,GAMES!H364,GAMES!H396,GAMES!H428,GAMES!H460,GAMES!H492,GAMES!H524,GAMES!H556,GAMES!H588,GAMES!H620) -> 1 | K7: =SUM(GAMES!I12,GAMES!I44,GAMES!I76,GAMES!I108,GAMES!I140,GAMES!I172,GAMES!I204,GAMES!I236,GAMES!I268,GAMES!I300,GAMES!I332,GAMES!I364,GAMES!I396,GAMES!I428,GAMES!I460,GAMES!I492,GAMES!I524,GAMES!I556,GAMES!I588,GAMES!I620) -> 6 | L7: =SUM(GAMES!J12,GAMES!J44,GAMES!J76,GAMES!J108,GAMES!J140,GAMES!J172,GAMES!J204,GAMES!J236,GAMES!J268,GAMES!J300,GAMES!J332,GAMES!J364,GAMES!J396,GAMES!J428,GAMES!J460,GAMES!J492,GAMES!J524,GAMES!J556,GAMES!J588,GAMES!J620) -> 2 | M7: =IF(OR(D7=0,F7=0),0,G7/F7) -> 0.44642857 | N7: --------- | P7: =IF(AND(D7>=4,B7<>""),"Yes","No") -> Yes
A8: 2 | B8: Tyler Edwards | D8: =SUM(GAMES!B13,GAMES!B45,GAMES!B77,GAMES!B109,GAMES!B141,GAMES!B173,GAMES!B205,GAMES!B237,GAMES!B269,GAMES!B301,GAMES!B333,GAMES!B365,GAMES!B397,GAMES!B429,GAMES!B461,GAMES!B493,GAMES!B525,GAMES!B557,GAMES!B589,GAMES!B621) -> 20 | E8: =SUM(GAMES!C13,GAMES!C45,GAMES!C77,GAMES!C109,GAMES!C141,GAMES!C173,GAMES!C205,GAMES!C237,GAMES!C269,GAMES!C301,GAMES!C333,GAMES!C365,GAMES!C397,GAMES!C429,GAMES!C461,GAMES!C493,GAMES!C525,GAMES!C557,GAMES!C589,GAMES!C621) -> 71 | F8: =SUM(GAMES!D13,GAMES!D45,GAMES!D77,GAMES!D109,GAMES!D141,GAMES!D173,GAMES!D205,GAMES!D237,GAMES!D269,GAMES!D301,GAMES!D333,GAMES!D365,GAMES!D397,GAMES!D429,GAMES!D461,GAMES!D493,GAMES!D525,GAMES!D557,GAMES!D589,GAMES!D621) -> 63 | G8: =SUM(GAMES!E13,GAMES!E45,GAMES!E77,GAMES!E109,GAMES!E141,GAMES!E173,GAMES!E205,GAMES!E237,GAMES!E269,GAMES!E301,GAMES!E333,GAMES!E365,GAMES!E397,GAMES!E429,GAMES!E461,GAMES!E493,GAMES!E525,GAMES!E557,GAMES!E589,GAMES!E621) -> 32 | H8: =SUM(GAMES!F13,GAMES!F45,GAMES!F77,GAMES!F109,GAMES!F141,GAMES!F173,GAMES!F205,GAMES!F237,GAMES!F269,GAMES!F301,GAMES!F333,GAMES!F365,GAMES!F397,GAMES!F429,GAMES!F461,GAMES!F493,GAMES!F525,GAMES!F557,GAMES!F589,GAMES!F621) -> 25 | I8: =SUM(GAMES!G13,GAMES!G45,GAMES!G77,GAMES!G109,GAMES!G141,GAMES!G173,GAMES!G205,GAMES!G237,GAMES!G269,GAMES!G301,GAMES!G333,GAMES!G365,GAMES!G397,GAMES!G429,GAMES!G461,GAMES!G493,GAMES!G525,GAMES!G557,GAMES!G589,GAMES!G621) -> 26 | J8: =SUM(GAMES!H13,GAMES!H45,GAMES!H77,GAMES!H109,GAMES!H141,GAMES!H173,GAMES!H205,GAMES!H237,GAMES!H269,GAMES!H301,GAMES!H333,GAMES!H365,GAMES!H397,GAMES!H429,GAMES!H461,GAMES!H493,GAMES!H525,GAMES!H557,GAMES!H589,GAMES!H621) -> 4 | K8: =SUM(GAMES!I13,GAMES!I45,GAMES!I77,GAMES!I109,GAMES!I141,GAMES!I173,GAMES!I205,GAMES!I237,GAMES!I269,GAMES!I301,GAMES!I333,GAMES!I365,GAMES!I397,GAMES!I429,GAMES!I461,GAMES!I493,GAMES!I525,GAMES!I557,GAMES!I589,GAMES!I621) -> 4 | L8: =SUM(GAMES!J13,GAMES!J45,GAMES!J77,GAMES!J109,GAMES!J141,GAMES!J173,GAMES!J205,GAMES!J237,GAMES!J269,GAMES!J301,GAMES!J333,GAMES!J365,GAMES!J397,GAMES!J429,GAMES!J461,GAMES!J493,GAMES!J525,GAMES!J557,GAMES!J589,GAMES!J621) -> 9 | M8: =IF(OR(D8=0,F8=0),0,G8/F8) -> 0.50793651 | N8: --------- | P8: =IF(AND(D8>=4,B8<>""),"Yes","No") -> Yes
A9: 3 | B9: Connor Miller | D9: =SUM(GAMES!B14,GAMES!B46,GAMES!B78,GAMES!B110,GAMES!B142,GAMES!B174,GAMES!B206,GAMES!B238,GAMES!B270,GAMES!B302,GAMES!B334,GAMES!B366,GAMES!B398,GAMES!B430,GAMES!B462,GAMES!B494,GAMES!B526,GAMES!B558,GAMES!B590,GAMES!B622) -> 18 | E9: =SUM(GAMES!C14,GAMES!C46,GAMES!C78,GAMES!C110,GAMES!C142,GAMES!C174,GAMES!C206,GAMES!C238,GAMES!C270,GAMES!C302,GAMES!C334,GAMES!C366,GAMES!C398,GAMES!C430,GAMES!C462,GAMES!C494,GAMES!C526,GAMES!C558,GAMES!C590,GAMES!C622) -> 72 | F9: =SUM(GAMES!D14,GAMES!D46,GAMES!D78,GAMES!D110,GAMES!D142,GAMES!D174,GAMES!D206,GAMES!D238,GAMES!D270,GAMES!D302,GAMES!D334,GAMES!D366,GAMES!D398,GAMES!D430,GAMES!D462,GAMES!D494,GAMES!D526,GAMES!D558,GAMES!D590,GAMES!D622) -> 67 | G9: =SUM(GAMES!E14,GAMES!E46,GAMES!E78,GAMES!E110,GAMES!E142,GAMES!E174,GAMES!E206,GAMES!E238,GAMES!E270,GAMES!E302,GAMES!E334,GAMES!E366,GAMES!E398,GAMES!E430,GAMES!E462,GAMES!E494,GAMES!E526,GAMES!E558,GAMES!E590,GAMES!E622) -> 43 | H9: =SUM(GAMES!F14,GAMES!F46,GAMES!F78,GAMES!F110,GAMES!F142,GAMES!F174,GAMES!F206,GAMES!F238,GAMES!F270,GAMES!F302,GAMES!F334,GAMES!F366,GAMES!F398,GAMES!F430,GAMES!F462,GAMES!F494,GAMES!F526,GAMES!F558,GAMES!F590,GAMES!F622) -> 31 | I9: =SUM(GAMES!G14,GAMES!G46,GAMES!G78,GAMES!G110,GAMES!G142,GAMES!G174,GAMES!G206,GAMES!G238,GAMES!G270,GAMES!G302,GAMES!G334,GAMES!G366,GAMES!G398,GAMES!G430,GAMES!G462,GAMES!G494,GAMES!G526,GAMES!G558,GAMES!G590,GAMES!G622) -> 22 | J9: =SUM(GAMES!H14,GAMES!H46,GAMES!H78,GAMES!H110,GAMES!H142,GAMES!H174,GAMES!H206,GAMES!H238,GAMES!H270,GAMES!H302,GAMES!H334,GAMES!H366,GAMES!H398,GAMES!H430,GAMES!H462,GAMES!H494,GAMES!H526,GAMES!H558,GAMES!H590,GAMES!H622) -> 1 | K9: =SUM(GAMES!I14,GAMES!I46,GAMES!I78,GAMES!I110,GAMES!I142,GAMES!I174,GAMES!I206,GAMES!I238,GAMES!I270,GAMES!I302,GAMES!I334,GAMES!I366,GAMES!I398,GAMES!I430,GAMES!I462,GAMES!I494,GAMES!I526,GAMES!I558,GAMES!I590,GAMES!I622) -> 4 | L9: =SUM(GAMES!J14,GAMES!J46,GAMES!J78,GAMES!J110,GAMES!J142,GAMES!J174,GAMES!J206,GAMES!J238,GAMES!J270,GAMES!J302,GAMES!J334,GAMES!J366,GAMES!J398,GAMES!J430,GAMES!J462,GAMES!J494,GAMES!J526,GAMES!J558,GAMES!J590,GAMES!J622) -> 7 | M9: =IF(OR(D9=0,F9=0),0,G9/F9) -> 0.64179104 | N9: --------- | P9: =IF(AND(D9>=4,B9<>""),"Yes","No") -> Yes
A10: 4 | B10: Charlie Coates | D10: =SUM(GAMES!B15,GAMES!B47,GAMES!B79,GAMES!B111,GAMES!B143,GAMES!B175,GAMES!B207,GAMES!B239,GAMES!B271,GAMES!B303,GAMES!B335,GAMES!B367,GAMES!B399,GAMES!B431,GAMES!B463,GAMES!B495,GAMES!B527,GAMES!B559,GAMES!B591,GAMES!B623) -> 17 | E10: =SUM(GAMES!C15,GAMES!C47,GAMES!C79,GAMES!C111,GAMES!C143,GAMES!C175,GAMES!C207,GAMES!C239,GAMES!C271,GAMES!C303,GAMES!C335,GAMES!C367,GAMES!C399,GAMES!C431,GAMES!C463,GAMES!C495,GAMES!C527,GAMES!C559,GAMES!C591,GAMES!C623) -> 66 | F10: =SUM(GAMES!D15,GAMES!D47,GAMES!D79,GAMES!D111,GAMES!D143,GAMES!D175,GAMES!D207,GAMES!D239,GAMES!D271,GAMES!D303,GAMES!D335,GAMES!D367,GAMES!D399,GAMES!D431,GAMES!D463,GAMES!D495,GAMES!D527,GAMES!D559,GAMES!D591,GAMES!D623) -> 64 | G10: =SUM(GAMES!E15,GAMES!E47,GAMES!E79,GAMES!E111,GAMES!E143,GAMES!E175,GAMES!E207,GAMES!E239,GAMES!E271,GAMES!E303,GAMES!E335,GAMES!E367,GAMES!E399,GAMES!E431,GAMES!E463,GAMES!E495,GAMES!E527,GAMES!E559,GAMES!E591,GAMES!E623) -> 36 | H10: =SUM(GAMES!F15,GAMES!F47,GAMES!F79,GAMES!F111,GAMES!F143,GAMES!F175,GAMES!F207,GAMES!F239,GAMES!F271,GAMES!F303,GAMES!F335,GAMES!F367,GAMES!F399,GAMES!F431,GAMES!F463,GAMES!F495,GAMES!F527,GAMES!F559,GAMES!F591,GAMES!F623) -> 25 | I10: =SUM(GAMES!G15,GAMES!G47,GAMES!G79,GAMES!G111,GAMES!G143,GAMES!G175,GAMES!G207,GAMES!G239,GAMES!G271,GAMES!G303,GAMES!G335,GAMES!G367,GAMES!G399,GAMES!G431,GAMES!G463,GAMES!G495,GAMES!G527,GAMES!G559,GAMES!G591,GAMES!G623) -> 22 | J10: =SUM(GAMES!H15,GAMES!H47,GAMES!H79,GAMES!H111,GAMES!H143,GAMES!H175,GAMES!H207,GAMES!H239,GAMES!H271,GAMES!H303,GAMES!H335,GAMES!H367,GAMES!H399,GAMES!H431,GAMES!H463,GAMES!H495,GAMES!H527,GAMES!H559,GAMES!H591,GAMES!H623) -> 0 | K10: =SUM(GAMES!I15,GAMES!I47,GAMES!I79,GAMES!I111,GAMES!I143,GAMES!I175,GAMES!I207,GAMES!I239,GAMES!I271,GAMES!I303,GAMES!I335,GAMES!I367,GAMES!I399,GAMES!I431,GAMES!I463,GAMES!I495,GAMES!I527,GAMES!I559,GAMES!I591,GAMES!I623) -> 2 | L10: =SUM(GAMES!J15,GAMES!J47,GAMES!J79,GAMES!J111,GAMES!J143,GAMES!J175,GAMES!J207,GAMES!J239,GAMES!J271,GAMES!J303,GAMES!J335,GAMES!J367,GAMES!J399,GAMES!J431,GAMES!J463,GAMES!J495,GAMES!J527,GAMES!J559,GAMES!J591,GAMES!J623) -> 5 | M10: =IF(OR(D10=0,F10=0),0,G10/F10) -> 0.5625 | N10: --------- | P10: =IF(AND(D10>=4,B10<>""),"Yes","No") -> Yes
A11: 5 | B11: Matt Myslewski | D11: =SUM(GAMES!B16,GAMES!B48,GAMES!B80,GAMES!B112,GAMES!B144,GAMES!B176,GAMES!B208,GAMES!B240,GAMES!B272,GAMES!B304,GAMES!B336,GAMES!B368,GAMES!B400,GAMES!B432,GAMES!B464,GAMES!B496,GAMES!B528,GAMES!B560,GAMES!B592,GAMES!B624) -> 21 | E11: =SUM(GAMES!C16,GAMES!C48,GAMES!C80,GAMES!C112,GAMES!C144,GAMES!C176,GAMES!C208,GAMES!C240,GAMES!C272,GAMES!C304,GAMES!C336,GAMES!C368,GAMES!C400,GAMES!C432,GAMES!C464,GAMES!C496,GAMES!C528,GAMES!C560,GAMES!C592,GAMES!C624) -> 78 | F11: =SUM(GAMES!D16,GAMES!D48,GAMES!D80,GAMES!D112,GAMES!D144,GAMES!D176,GAMES!D208,GAMES!D240,GAMES!D272,GAMES!D304,GAMES!D336,GAMES!D368,GAMES!D400,GAMES!D432,GAMES!D464,GAMES!D496,GAMES!D528,GAMES!D560,GAMES!D592,GAMES!D624) -> 74 | G11: =SUM(GAMES!E16,GAMES!E48,GAMES!E80,GAMES!E112,GAMES!E144,GAMES!E176,GAMES!E208,GAMES!E240,GAMES!E272,GAMES!E304,GAMES!E336,GAMES!E368,GAMES!E400,GAMES!E432,GAMES!E464,GAMES!E496,GAMES!E528,GAMES!E560,GAMES!E592,GAMES!E624) -> 40 | H11: =SUM(GAMES!F16,GAMES!F48,GAMES!F80,GAMES!F112,GAMES!F144,GAMES!F176,GAMES!F208,GAMES!F240,GAMES!F272,GAMES!F304,GAMES!F336,GAMES!F368,GAMES!F400,GAMES!F432,GAMES!F464,GAMES!F496,GAMES!F528,GAMES!F560,GAMES!F592,GAMES!F624) -> 27 | I11: =SUM(GAMES!G16,GAMES!G48,GAMES!G80,GAMES!G112,GAMES!G144,GAMES!G176,GAMES!G208,GAMES!G240,GAMES!G272,GAMES!G304,GAMES!G336,GAMES!G368,GAMES!G400,GAMES!G432,GAMES!G464,GAMES!G496,GAMES!G528,GAMES!G560,GAMES!G592,GAMES!G624) -> 29 | J11: =SUM(GAMES!H16,GAMES!H48,GAMES!H80,GAMES!H112,GAMES!H144,GAMES!H176,GAMES!H208,GAMES!H240,GAMES!H272,GAMES!H304,GAMES!H336,GAMES!H368,GAMES!H400,GAMES!H432,GAMES!H464,GAMES!H496,GAMES!H528,GAMES!H560,GAMES!H592,GAMES!H624) -> 0 | K11: =SUM(GAMES!I16,GAMES!I48,GAMES!I80,GAMES!I112,GAMES!I144,GAMES!I176,GAMES!I208,GAMES!I240,GAMES!I272,GAMES!I304,GAMES!I336,GAMES!I368,GAMES!I400,GAMES!I432,GAMES!I464,GAMES!I496,GAMES!I528,GAMES!I560,GAMES!I592,GAMES!I624) -> 4 | L11: =SUM(GAMES!J16,GAMES!J48,GAMES!J80,GAMES!J112,GAMES!J144,GAMES!J176,GAMES!J208,GAMES!J240,GAMES!J272,GAMES!J304,GAMES!J336,GAMES!J368,GAMES!J400,GAMES!J432,GAMES!J464,GAMES!J496,GAMES!J528,GAMES!J560,GAMES!J592,GAMES!J624) -> 4 | M11: =IF(OR(D11=0,F11=0),0,G11/F11) -> 0.54054054 | N11: --------- | P11: =IF(AND(D11>=4,B11<>""),"Yes","No") -> Yes
A12: 6 | B12: Jeremy Graves | D12: =SUM(GAMES!B17,GAMES!B49,GAMES!B81,GAMES!B113,GAMES!B145,GAMES!B177,GAMES!B209,GAMES!B241,GAMES!B273,GAMES!B305,GAMES!B337,GAMES!B369,GAMES!B401,GAMES!B433,GAMES!B465,GAMES!B497,GAMES!B529,GAMES!B561,GAMES!B593,GAMES!B625) -> 20 | E12: =SUM(GAMES!C17,GAMES!C49,GAMES!C81,GAMES!C113,GAMES!C145,GAMES!C177,GAMES!C209,GAMES!C241,GAMES!C273,GAMES!C305,GAMES!C337,GAMES!C369,GAMES!C401,GAMES!C433,GAMES!C465,GAMES!C497,GAMES!C529,GAMES!C561,GAMES!C593,GAMES!C625) -> 73 | F12: =SUM(GAMES!D17,GAMES!D49,GAMES!D81,GAMES!D113,GAMES!D145,GAMES!D177,GAMES!D209,GAMES!D241,GAMES!D273,GAMES!D305,GAMES!D337,GAMES!D369,GAMES!D401,GAMES!D433,GAMES!D465,GAMES!D497,GAMES!D529,GAMES!D561,GAMES!D593,GAMES!D625) -> 71 | G12: =SUM(GAMES!E17,GAMES!E49,GAMES!E81,GAMES!E113,GAMES!E145,GAMES!E177,GAMES!E209,GAMES!E241,GAMES!E273,GAMES!E305,GAMES!E337,GAMES!E369,GAMES!E401,GAMES!E433,GAMES!E465,GAMES!E497,GAMES!E529,GAMES!E561,GAMES!E593,GAMES!E625) -> 32 | H12: =SUM(GAMES!F17,GAMES!F49,GAMES!F81,GAMES!F113,GAMES!F145,GAMES!F177,GAMES!F209,GAMES!F241,GAMES!F273,GAMES!F305,GAMES!F337,GAMES!F369,GAMES!F401,GAMES!F433,GAMES!F465,GAMES!F497,GAMES!F529,GAMES!F561,GAMES!F593,GAMES!F625) -> 20 | I12: =SUM(GAMES!G17,GAMES!G49,GAMES!G81,GAMES!G113,GAMES!G145,GAMES!G177,GAMES!G209,GAMES!G241,GAMES!G273,GAMES!G305,GAMES!G337,GAMES!G369,GAMES!G401,GAMES!G433,GAMES!G465,GAMES!G497,GAMES!G529,GAMES!G561,GAMES!G593,GAMES!G625) -> 17 | J12: =SUM(GAMES!H17,GAMES!H49,GAMES!H81,GAMES!H113,GAMES!H145,GAMES!H177,GAMES!H209,GAMES!H241,GAMES!H273,GAMES!H305,GAMES!H337,GAMES!H369,GAMES!H401,GAMES!H433,GAMES!H465,GAMES!H497,GAMES!H529,GAMES!H561,GAMES!H593,GAMES!H625) -> 1 | K12: =SUM(GAMES!I17,GAMES!I49,GAMES!I81,GAMES!I113,GAMES!I145,GAMES!I177,GAMES!I209,GAMES!I241,GAMES!I273,GAMES!I305,GAMES!I337,GAMES!I369,GAMES!I401,GAMES!I433,GAMES!I465,GAMES!I497,GAMES!I529,GAMES!I561,GAMES!I593,GAMES!I625) -> 1 | L12: =SUM(GAMES!J17,GAMES!J49,GAMES!J81,GAMES!J113,GAMES!J145,GAMES!J177,GAMES!J209,GAMES!J241,GAMES!J273,GAMES!J305,GAMES!J337,GAMES!J369,GAMES!J401,GAMES!J433,GAMES!J465,GAMES!J497,GAMES!J529,GAMES!J561,GAMES!J593,GAMES!J625) -> 0 | M12: =IF(OR(D12=0,F12=0),0,G12/F12) -> 0.45070423 | N12: --------- | P12: =IF(AND(D12>=4,B12<>""),"Yes","No") -> Yes
A13: 7 | B13: Joe Brown | D13: =SUM(GAMES!B18,GAMES!B50,GAMES!B82,GAMES!B114,GAMES!B146,GAMES!B178,GAMES!B210,GAMES!B242,GAMES!B274,GAMES!B306,GAMES!B338,GAMES!B370,GAMES!B402,GAMES!B434,GAMES!B466,GAMES!B498,GAMES!B530,GAMES!B562,GAMES!B594,GAMES!B626) -> 14 | E13: =SUM(GAMES!C18,GAMES!C50,GAMES!C82,GAMES!C114,GAMES!C146,GAMES!C178,GAMES!C210,GAMES!C242,GAMES!C274,GAMES!C306,GAMES!C338,GAMES!C370,GAMES!C402,GAMES!C434,GAMES!C466,GAMES!C498,GAMES!C530,GAMES!C562,GAMES!C594,GAMES!C626) -> 43 | F13: =SUM(GAMES!D18,GAMES!D50,GAMES!D82,GAMES!D114,GAMES!D146,GAMES!D178,GAMES!D210,GAMES!D242,GAMES!D274,GAMES!D306,GAMES!D338,GAMES!D370,GAMES!D402,GAMES!D434,GAMES!D466,GAMES!D498,GAMES!D530,GAMES!D562,GAMES!D594,GAMES!D626) -> 41 | G13: =SUM(GAMES!E18,GAMES!E50,GAMES!E82,GAMES!E114,GAMES!E146,GAMES!E178,GAMES!E210,GAMES!E242,GAMES!E274,GAMES!E306,GAMES!E338,GAMES!E370,GAMES!E402,GAMES!E434,GAMES!E466,GAMES!E498,GAMES!E530,GAMES!E562,GAMES!E594,GAMES!E626) -> 17 | H13: =SUM(GAMES!F18,GAMES!F50,GAMES!F82,GAMES!F114,GAMES!F146,GAMES!F178,GAMES!F210,GAMES!F242,GAMES!F274,GAMES!F306,GAMES!F338,GAMES!F370,GAMES!F402,GAMES!F434,GAMES!F466,GAMES!F498,GAMES!F530,GAMES!F562,GAMES!F594,GAMES!F626) -> 10 | I13: =SUM(GAMES!G18,GAMES!G50,GAMES!G82,GAMES!G114,GAMES!G146,GAMES!G178,GAMES!G210,GAMES!G242,GAMES!G274,GAMES!G306,GAMES!G338,GAMES!G370,GAMES!G402,GAMES!G434,GAMES!G466,GAMES!G498,GAMES!G530,GAMES!G562,GAMES!G594,GAMES!G626) -> 8 | J13: =SUM(GAMES!H18,GAMES!H50,GAMES!H82,GAMES!H114,GAMES!H146,GAMES!H178,GAMES!H210,GAMES!H242,GAMES!H274,GAMES!H306,GAMES!H338,GAMES!H370,GAMES!H402,GAMES!H434,GAMES!H466,GAMES!H498,GAMES!H530,GAMES!H562,GAMES!H594,GAMES!H626) -> 0 | K13: =SUM(GAMES!I18,GAMES!I50,GAMES!I82,GAMES!I114,GAMES!I146,GAMES!I178,GAMES!I210,GAMES!I242,GAMES!I274,GAMES!I306,GAMES!I338,GAMES!I370,GAMES!I402,GAMES!I434,GAMES!I466,GAMES!I498,GAMES!I530,GAMES!I562,GAMES!I594,GAMES!I626) -> 2 | L13: =SUM(GAMES!J18,GAMES!J50,GAMES!J82,GAMES!J114,GAMES!J146,GAMES!J178,GAMES!J210,GAMES!J242,GAMES!J274,GAMES!J306,GAMES!J338,GAMES!J370,GAMES!J402,GAMES!J434,GAMES!J466,GAMES!J498,GAMES!J530,GAMES!J562,GAMES!J594,GAMES!J626) -> 0 | M13: =IF(OR(D13=0,F13=0),0,G13/F13) -> 0.41463415 | N13: --------- | P13: =IF(AND(D13>=4,B13<>""),"Yes","No") -> Yes
A14: 8 | B14: Kyle Markward | D14: =SUM(GAMES!B19,GAMES!B51,GAMES!B83,GAMES!B115,GAMES!B147,GAMES!B179,GAMES!B211,GAMES!B243,GAMES!B275,GAMES!B307,GAMES!B339,GAMES!B371,GAMES!B403,GAMES!B435,GAMES!B467,GAMES!B499,GAMES!B531,GAMES!B563,GAMES!B595,GAMES!B627) -> 11 | E14: =SUM(GAMES!C19,GAMES!C51,GAMES!C83,GAMES!C115,GAMES!C147,GAMES!C179,GAMES!C211,GAMES!C243,GAMES!C275,GAMES!C307,GAMES!C339,GAMES!C371,GAMES!C403,GAMES!C435,GAMES!C467,GAMES!C499,GAMES!C531,GAMES!C563,GAMES!C595,GAMES!C627) -> 34 | F14: =SUM(GAMES!D19,GAMES!D51,GAMES!D83,GAMES!D115,GAMES!D147,GAMES!D179,GAMES!D211,GAMES!D243,GAMES!D275,GAMES!D307,GAMES!D339,GAMES!D371,GAMES!D403,GAMES!D435,GAMES!D467,GAMES!D499,GAMES!D531,GAMES!D563,GAMES!D595,GAMES!D627) -> 33 | G14: =SUM(GAMES!E19,GAMES!E51,GAMES!E83,GAMES!E115,GAMES!E147,GAMES!E179,GAMES!E211,GAMES!E243,GAMES!E275,GAMES!E307,GAMES!E339,GAMES!E371,GAMES!E403,GAMES!E435,GAMES!E467,GAMES!E499,GAMES!E531,GAMES!E563,GAMES!E595,GAMES!E627) -> 13 | H14: =SUM(GAMES!F19,GAMES!F51,GAMES!F83,GAMES!F115,GAMES!F147,GAMES!F179,GAMES!F211,GAMES!F243,GAMES!F275,GAMES!F307,GAMES!F339,GAMES!F371,GAMES!F403,GAMES!F435,GAMES!F467,GAMES!F499,GAMES!F531,GAMES!F563,GAMES!F595,GAMES!F627) -> 7 | I14: =SUM(GAMES!G19,GAMES!G51,GAMES!G83,GAMES!G115,GAMES!G147,GAMES!G179,GAMES!G211,GAMES!G243,GAMES!G275,GAMES!G307,GAMES!G339,GAMES!G371,GAMES!G403,GAMES!G435,GAMES!G467,GAMES!G499,GAMES!G531,GAMES!G563,GAMES!G595,GAMES!G627) -> 7 | J14: =SUM(GAMES!H19,GAMES!H51,GAMES!H83,GAMES!H115,GAMES!H147,GAMES!H179,GAMES!H211,GAMES!H243,GAMES!H275,GAMES!H307,GAMES!H339,GAMES!H371,GAMES!H403,GAMES!H435,GAMES!H467,GAMES!H499,GAMES!H531,GAMES!H563,GAMES!H595,GAMES!H627) -> 1 | K14: =SUM(GAMES!I19,GAMES!I51,GAMES!I83,GAMES!I115,GAMES!I147,GAMES!I179,GAMES!I211,GAMES!I243,GAMES!I275,GAMES!I307,GAMES!I339,GAMES!I371,GAMES!I403,GAMES!I435,GAMES!I467,GAMES!I499,GAMES!I531,GAMES!I563,GAMES!I595,GAMES!I627) -> 0 | L14: =SUM(GAMES!J19,GAMES!J51,GAMES!J83,GAMES!J115,GAMES!J147,GAMES!J179,GAMES!J211,GAMES!J243,GAMES!J275,GAMES!J307,GAMES!J339,GAMES!J371,GAMES!J403,GAMES!J435,GAMES!J467,GAMES!J499,GAMES!J531,GAMES!J563,GAMES!J595,GAMES!J627) -> 1 | M14: =IF(OR(D14=0,F14=0),0,G14/F14) -> 0.39393939 | N14: --------- | P14: =IF(AND(D14>=4,B14<>""),"Yes","No") -> Yes
A15: 9 | B15: Matt Tavella | D15: =SUM(GAMES!B20,GAMES!B52,GAMES!B84,GAMES!B116,GAMES!B148,GAMES!B180,GAMES!B212,GAMES!B244,GAMES!B276,GAMES!B308,GAMES!B340,GAMES!B372,GAMES!B404,GAMES!B436,GAMES!B468,GAMES!B500,GAMES!B532,GAMES!B564,GAMES!B596,GAMES!B628) -> 2 | E15: =SUM(GAMES!C20,GAMES!C52,GAMES!C84,GAMES!C116,GAMES!C148,GAMES!C180,GAMES!C212,GAMES!C244,GAMES!C276,GAMES!C308,GAMES!C340,GAMES!C372,GAMES!C404,GAMES!C436,GAMES!C468,GAMES!C500,GAMES!C532,GAMES!C564,GAMES!C596,GAMES!C628) -> 3 | F15: =SUM(GAMES!D20,GAMES!D52,GAMES!D84,GAMES!D116,GAMES!D148,GAMES!D180,GAMES!D212,GAMES!D244,GAMES!D276,GAMES!D308,GAMES!D340,GAMES!D372,GAMES!D404,GAMES!D436,GAMES!D468,GAMES!D500,GAMES!D532,GAMES!D564,GAMES!D596,GAMES!D628) -> 3 | G15: =SUM(GAMES!E20,GAMES!E52,GAMES!E84,GAMES!E116,GAMES!E148,GAMES!E180,GAMES!E212,GAMES!E244,GAMES!E276,GAMES!E308,GAMES!E340,GAMES!E372,GAMES!E404,GAMES!E436,GAMES!E468,GAMES!E500,GAMES!E532,GAMES!E564,GAMES!E596,GAMES!E628) -> 2 | H15: =SUM(GAMES!F20,GAMES!F52,GAMES!F84,GAMES!F116,GAMES!F148,GAMES!F180,GAMES!F212,GAMES!F244,GAMES!F276,GAMES!F308,GAMES!F340,GAMES!F372,GAMES!F404,GAMES!F436,GAMES!F468,GAMES!F500,GAMES!F532,GAMES!F564,GAMES!F596,GAMES!F628) -> 2 | I15: =SUM(GAMES!G20,GAMES!G52,GAMES!G84,GAMES!G116,GAMES!G148,GAMES!G180,GAMES!G212,GAMES!G244,GAMES!G276,GAMES!G308,GAMES!G340,GAMES!G372,GAMES!G404,GAMES!G436,GAMES!G468,GAMES!G500,GAMES!G532,GAMES!G564,GAMES!G596,GAMES!G628) -> 0 | J15: =SUM(GAMES!H20,GAMES!H52,GAMES!H84,GAMES!H116,GAMES!H148,GAMES!H180,GAMES!H212,GAMES!H244,GAMES!H276,GAMES!H308,GAMES!H340,GAMES!H372,GAMES!H404,GAMES!H436,GAMES!H468,GAMES!H500,GAMES!H532,GAMES!H564,GAMES!H596,GAMES!H628) -> 0 | K15: =SUM(GAMES!I20,GAMES!I52,GAMES!I84,GAMES!I116,GAMES!I148,GAMES!I180,GAMES!I212,GAMES!I244,GAMES!I276,GAMES!I308,GAMES!I340,GAMES!I372,GAMES!I404,GAMES!I436,GAMES!I468,GAMES!I500,GAMES!I532,GAMES!I564,GAMES!I596,GAMES!I628) -> 0 | L15: =SUM(GAMES!J20,GAMES!J52,GAMES!J84,GAMES!J116,GAMES!J148,GAMES!J180,GAMES!J212,GAMES!J244,GAMES!J276,GAMES!J308,GAMES!J340,GAMES!J372,GAMES!J404,GAMES!J436,GAMES!J468,GAMES!J500,GAMES!J532,GAMES!J564,GAMES!J596,GAMES!J628) -> 0 | M15: =IF(OR(D15=0,F15=0),0,G15/F15) -> 0.66666667 | N15: --------- | P15: =IF(AND(D15>=4,B15<>""),"Yes","No") -> No
A16: 10 | B16: J Aminti | D16: =SUM(GAMES!B21,GAMES!B53,GAMES!B85,GAMES!B117,GAMES!B149,GAMES!B181,GAMES!B213,GAMES!B245,GAMES!B277,GAMES!B309,GAMES!B341,GAMES!B373,GAMES!B405,GAMES!B437,GAMES!B469,GAMES!B501,GAMES!B533,GAMES!B565,GAMES!B597,GAMES!B629) -> 2 | E16: =SUM(GAMES!C21,GAMES!C53,GAMES!C85,GAMES!C117,GAMES!C149,GAMES!C181,GAMES!C213,GAMES!C245,GAMES!C277,GAMES!C309,GAMES!C341,GAMES!C373,GAMES!C405,GAMES!C437,GAMES!C469,GAMES!C501,GAMES!C533,GAMES!C565,GAMES!C597,GAMES!C629) -> 2 | F16: =SUM(GAMES!D21,GAMES!D53,GAMES!D85,GAMES!D117,GAMES!D149,GAMES!D181,GAMES!D213,GAMES!D245,GAMES!D277,GAMES!D309,GAMES!D341,GAMES!D373,GAMES!D405,GAMES!D437,GAMES!D469,GAMES!D501,GAMES!D533,GAMES!D565,GAMES!D597,GAMES!D629) -> 2 | G16: =SUM(GAMES!E21,GAMES!E53,GAMES!E85,GAMES!E117,GAMES!E149,GAMES!E181,GAMES!E213,GAMES!E245,GAMES!E277,GAMES!E309,GAMES!E341,GAMES!E373,GAMES!E405,GAMES!E437,GAMES!E469,GAMES!E501,GAMES!E533,GAMES!E565,GAMES!E597,GAMES!E629) -> 2 | H16: =SUM(GAMES!F21,GAMES!F53,GAMES!F85,GAMES!F117,GAMES!F149,GAMES!F181,GAMES!F213,GAMES!F245,GAMES!F277,GAMES!F309,GAMES!F341,GAMES!F373,GAMES!F405,GAMES!F437,GAMES!F469,GAMES!F501,GAMES!F533,GAMES!F565,GAMES!F597,GAMES!F629) -> 1 | I16: =SUM(GAMES!G21,GAMES!G53,GAMES!G85,GAMES!G117,GAMES!G149,GAMES!G181,GAMES!G213,GAMES!G245,GAMES!G277,GAMES!G309,GAMES!G341,GAMES!G373,GAMES!G405,GAMES!G437,GAMES!G469,GAMES!G501,GAMES!G533,GAMES!G565,GAMES!G597,GAMES!G629) -> 1 | J16: =SUM(GAMES!H21,GAMES!H53,GAMES!H85,GAMES!H117,GAMES!H149,GAMES!H181,GAMES!H213,GAMES!H245,GAMES!H277,GAMES!H309,GAMES!H341,GAMES!H373,GAMES!H405,GAMES!H437,GAMES!H469,GAMES!H501,GAMES!H533,GAMES!H565,GAMES!H597,GAMES!H629) -> 1 | K16: =SUM(GAMES!I21,GAMES!I53,GAMES!I85,GAMES!I117,GAMES!I149,GAMES!I181,GAMES!I213,GAMES!I245,GAMES!I277,GAMES!I309,GAMES!I341,GAMES!I373,GAMES!I405,GAMES!I437,GAMES!I469,GAMES!I501,GAMES!I533,GAMES!I565,GAMES!I597,GAMES!I629) -> 0 | L16: =SUM(GAMES!J21,GAMES!J53,GAMES!J85,GAMES!J117,GAMES!J149,GAMES!J181,GAMES!J213,GAMES!J245,GAMES!J277,GAMES!J309,GAMES!J341,GAMES!J373,GAMES!J405,GAMES!J437,GAMES!J469,GAMES!J501,GAMES!J533,GAMES!J565,GAMES!J597,GAMES!J629) -> 0 | M16: =IF(OR(D16=0,F16=0),0,G16/F16) -> 1 | N16: --------- | P16: =IF(AND(D16>=4,B16<>""),"Yes","No") -> No
A17: 11 | B17: DJ Bruckenthal | D17: =SUM(GAMES!B22,GAMES!B54,GAMES!B86,GAMES!B118,GAMES!B150,GAMES!B182,GAMES!B214,GAMES!B246,GAMES!B278,GAMES!B310,GAMES!B342,GAMES!B374,GAMES!B406,GAMES!B438,GAMES!B470,GAMES!B502,GAMES!B534,GAMES!B566,GAMES!B598,GAMES!B630) -> 12 | E17: =SUM(GAMES!C22,GAMES!C54,GAMES!C86,GAMES!C118,GAMES!C150,GAMES!C182,GAMES!C214,GAMES!C246,GAMES!C278,GAMES!C310,GAMES!C342,GAMES!C374,GAMES!C406,GAMES!C438,GAMES!C470,GAMES!C502,GAMES!C534,GAMES!C566,GAMES!C598,GAMES!C630) -> 39 | F17: =SUM(GAMES!D22,GAMES!D54,GAMES!D86,GAMES!D118,GAMES!D150,GAMES!D182,GAMES!D214,GAMES!D246,GAMES!D278,GAMES!D310,GAMES!D342,GAMES!D374,GAMES!D406,GAMES!D438,GAMES!D470,GAMES!D502,GAMES!D534,GAMES!D566,GAMES!D598,GAMES!D630) -> 36 | G17: =SUM(GAMES!E22,GAMES!E54,GAMES!E86,GAMES!E118,GAMES!E150,GAMES!E182,GAMES!E214,GAMES!E246,GAMES!E278,GAMES!E310,GAMES!E342,GAMES!E374,GAMES!E406,GAMES!E438,GAMES!E470,GAMES!E502,GAMES!E534,GAMES!E566,GAMES!E598,GAMES!E630) -> 21 | H17: =SUM(GAMES!F22,GAMES!F54,GAMES!F86,GAMES!F118,GAMES!F150,GAMES!F182,GAMES!F214,GAMES!F246,GAMES!F278,GAMES!F310,GAMES!F342,GAMES!F374,GAMES!F406,GAMES!F438,GAMES!F470,GAMES!F502,GAMES!F534,GAMES!F566,GAMES!F598,GAMES!F630) -> 13 | I17: =SUM(GAMES!G22,GAMES!G54,GAMES!G86,GAMES!G118,GAMES!G150,GAMES!G182,GAMES!G214,GAMES!G246,GAMES!G278,GAMES!G310,GAMES!G342,GAMES!G374,GAMES!G406,GAMES!G438,GAMES!G470,GAMES!G502,GAMES!G534,GAMES!G566,GAMES!G598,GAMES!G630) -> 14 | J17: =SUM(GAMES!H22,GAMES!H54,GAMES!H86,GAMES!H118,GAMES!H150,GAMES!H182,GAMES!H214,GAMES!H246,GAMES!H278,GAMES!H310,GAMES!H342,GAMES!H374,GAMES!H406,GAMES!H438,GAMES!H470,GAMES!H502,GAMES!H534,GAMES!H566,GAMES!H598,GAMES!H630) -> 3 | K17: =SUM(GAMES!I22,GAMES!I54,GAMES!I86,GAMES!I118,GAMES!I150,GAMES!I182,GAMES!I214,GAMES!I246,GAMES!I278,GAMES!I310,GAMES!I342,GAMES!I374,GAMES!I406,GAMES!I438,GAMES!I470,GAMES!I502,GAMES!I534,GAMES!I566,GAMES!I598,GAMES!I630) -> 1 | L17: =SUM(GAMES!J22,GAMES!J54,GAMES!J86,GAMES!J118,GAMES!J150,GAMES!J182,GAMES!J214,GAMES!J246,GAMES!J278,GAMES!J310,GAMES!J342,GAMES!J374,GAMES!J406,GAMES!J438,GAMES!J470,GAMES!J502,GAMES!J534,GAMES!J566,GAMES!J598,GAMES!J630) -> 1 | M17: =IF(OR(D17=0,F17=0),0,G17/F17) -> 0.58333333 | N17: --------- | P17: =IF(AND(D17>=4,B17<>""),"Yes","No") -> Yes
A18: 12 | B18: Joe Coates | D18: =SUM(GAMES!B23,GAMES!B55,GAMES!B87,GAMES!B119,GAMES!B151,GAMES!B183,GAMES!B215,GAMES!B247,GAMES!B279,GAMES!B311,GAMES!B343,GAMES!B375,GAMES!B407,GAMES!B439,GAMES!B471,GAMES!B503,GAMES!B535,GAMES!B567,GAMES!B599,GAMES!B631) -> 19 | E18: =SUM(GAMES!C23,GAMES!C55,GAMES!C87,GAMES!C119,GAMES!C151,GAMES!C183,GAMES!C215,GAMES!C247,GAMES!C279,GAMES!C311,GAMES!C343,GAMES!C375,GAMES!C407,GAMES!C439,GAMES!C471,GAMES!C503,GAMES!C535,GAMES!C567,GAMES!C599,GAMES!C631) -> 65 | F18: =SUM(GAMES!D23,GAMES!D55,GAMES!D87,GAMES!D119,GAMES!D151,GAMES!D183,GAMES!D215,GAMES!D247,GAMES!D279,GAMES!D311,GAMES!D343,GAMES!D375,GAMES!D407,GAMES!D439,GAMES!D471,GAMES!D503,GAMES!D535,GAMES!D567,GAMES!D599,GAMES!D631) -> 63 | G18: =SUM(GAMES!E23,GAMES!E55,GAMES!E87,GAMES!E119,GAMES!E151,GAMES!E183,GAMES!E215,GAMES!E247,GAMES!E279,GAMES!E311,GAMES!E343,GAMES!E375,GAMES!E407,GAMES!E439,GAMES!E471,GAMES!E503,GAMES!E535,GAMES!E567,GAMES!E599,GAMES!E631) -> 24 | H18: =SUM(GAMES!F23,GAMES!F55,GAMES!F87,GAMES!F119,GAMES!F151,GAMES!F183,GAMES!F215,GAMES!F247,GAMES!F279,GAMES!F311,GAMES!F343,GAMES!F375,GAMES!F407,GAMES!F439,GAMES!F471,GAMES!F503,GAMES!F535,GAMES!F567,GAMES!F599,GAMES!F631) -> 19 | I18: =SUM(GAMES!G23,GAMES!G55,GAMES!G87,GAMES!G119,GAMES!G151,GAMES!G183,GAMES!G215,GAMES!G247,GAMES!G279,GAMES!G311,GAMES!G343,GAMES!G375,GAMES!G407,GAMES!G439,GAMES!G471,GAMES!G503,GAMES!G535,GAMES!G567,GAMES!G599,GAMES!G631) -> 12 | J18: =SUM(GAMES!H23,GAMES!H55,GAMES!H87,GAMES!H119,GAMES!H151,GAMES!H183,GAMES!H215,GAMES!H247,GAMES!H279,GAMES!H311,GAMES!H343,GAMES!H375,GAMES!H407,GAMES!H439,GAMES!H471,GAMES!H503,GAMES!H535,GAMES!H567,GAMES!H599,GAMES!H631) -> 2 | K18: =SUM(GAMES!I23,GAMES!I55,GAMES!I87,GAMES!I119,GAMES!I151,GAMES!I183,GAMES!I215,GAMES!I247,GAMES!I279,GAMES!I311,GAMES!I343,GAMES!I375,GAMES!I407,GAMES!I439,GAMES!I471,GAMES!I503,GAMES!I535,GAMES!I567,GAMES!I599,GAMES!I631) -> 0 | L18: =SUM(GAMES!J23,GAMES!J55,GAMES!J87,GAMES!J119,GAMES!J151,GAMES!J183,GAMES!J215,GAMES!J247,GAMES!J279,GAMES!J311,GAMES!J343,GAMES!J375,GAMES!J407,GAMES!J439,GAMES!J471,GAMES!J503,GAMES!J535,GAMES!J567,GAMES!J599,GAMES!J631) -> 0 | M18: =IF(OR(D18=0,F18=0),0,G18/F18) -> 0.38095238 | N18: --------- | P18: =IF(AND(D18>=4,B18<>""),"Yes","No") -> Yes
... A26: 20 | B26: Tim Frawley | D26: =SUM(GAMES!B31,GAMES!B63,GAMES!B95,GAMES!B127,GAMES!B159,GAMES!B191,GAMES!B223,GAMES!B255,GAMES!B287,GAMES!B319,GAMES!B351,GAMES!B383,GAMES!B415,GAMES!B447,GAMES!B479,GAMES!B511,GAMES!B543,GAMES!B575,GAMES!B607,GAMES!B639) -> 2 | E26: =SUM(GAMES!C31,GAMES!C63,GAMES!C95,GAMES!C127,GAMES!C159,GAMES!C191,GAMES!C223,GAMES!C255,GAMES!C287,GAMES!C319,GAMES!C351,GAMES!C383,GAMES!C415,GAMES!C447,GAMES!C479,GAMES!C511,GAMES!C543,GAMES!C575,GAMES!C607,GAMES!C639) -> 3 | F26: =SUM(GAMES!D31,GAMES!D63,GAMES!D95,GAMES!D127,GAMES!D159,GAMES!D191,GAMES!D223,GAMES!D255,GAMES!D287,GAMES!D319,GAMES!D351,GAMES!D383,GAMES!D415,GAMES!D447,GAMES!D479,GAMES!D511,GAMES!D543,GAMES!D575,GAMES!D607,GAMES!D639) -> 3 | G26: =SUM(GAMES!E31,GAMES!E63,GAMES!E95,GAMES!E127,GAMES!E159,GAMES!E191,GAMES!E223,GAMES!E255,GAMES!E287,GAMES!E319,GAMES!E351,GAMES!E383,GAMES!E415,GAMES!E447,GAMES!E479,GAMES!E511,GAMES!E543,GAMES!E575,GAMES!E607,GAMES!E639) -> 0 | H26: =SUM(GAMES!F31,GAMES!F63,GAMES!F95,GAMES!F127,GAMES!F159,GAMES!F191,GAMES!F223,GAMES!F255,GAMES!F287,GAMES!F319,GAMES!F351,GAMES!F383,GAMES!F415,GAMES!F447,GAMES!F479,GAMES!F511,GAMES!F543,GAMES!F575,GAMES!F607,GAMES!F639) -> 0 | I26: =SUM(GAMES!G31,GAMES!G63,GAMES!G95,GAMES!G127,GAMES!G159,GAMES!G191,GAMES!G223,GAMES!G255,GAMES!G287,GAMES!G319,GAMES!G351,GAMES!G383,GAMES!G415,GAMES!G447,GAMES!G479,GAMES!G511,GAMES!G543,GAMES!G575,GAMES!G607,GAMES!G639) -> 0 | J26: =SUM(GAMES!H31,GAMES!H63,GAMES!H95,GAMES!H127,GAMES!H159,GAMES!H191,GAMES!H223,GAMES!H255,GAMES!H287,GAMES!H319,GAMES!H351,GAMES!H383,GAMES!H415,GAMES!H447,GAMES!H479,GAMES!H511,GAMES!H543,GAMES!H575,GAMES!H607,GAMES!H639) -> 0 | K26: =SUM(GAMES!I31,GAMES!I63,GAMES!I95,GAMES!I127,GAMES!I159,GAMES!I191,GAMES!I223,GAMES!I255,GAMES!I287,GAMES!I319,GAMES!I351,GAMES!I383,GAMES!I415,GAMES!I447,GAMES!I479,GAMES!I511,GAMES!I543,GAMES!I575,GAMES!I607,GAMES!I639) -> 0 | L26: =SUM(GAMES!J31,GAMES!J63,GAMES!J95,GAMES!J127,GAMES!J159,GAMES!J191,GAMES!J223,GAMES!J255,GAMES!J287,GAMES!J319,GAMES!J351,GAMES!J383,GAMES!J415,GAMES!J447,GAMES!J479,GAMES!J511,GAMES!J543,GAMES!J575,GAMES!J607,GAMES!J639) -> 0 | M26: =IF(OR(D26=0,F26=0),0,G26/F26) -> 0 | N26: --------- | P26: =IF(AND(D26>=4,B26<>""),"Yes","No") -> No
A27: 21 | D27: =SUM(GAMES!B32,GAMES!B64,GAMES!B96,GAMES!B128,GAMES!B160,GAMES!B192,GAMES!B224,GAMES!B256,GAMES!B288,GAMES!B320,GAMES!B352,GAMES!B384,GAMES!B416,GAMES!B448,GAMES!B480,GAMES!B512,GAMES!B544,GAMES!B576,GAMES!B608,GAMES!B640) -> 1 | E27: =SUM(GAMES!C32,GAMES!C64,GAMES!C96,GAMES!C128,GAMES!C160,GAMES!C192,GAMES!C224,GAMES!C256,GAMES!C288,GAMES!C320,GAMES!C352,GAMES!C384,GAMES!C416,GAMES!C448,GAMES!C480,GAMES!C512,GAMES!C544,GAMES!C576,GAMES!C608,GAMES!C640) -> 0 | F27: =SUM(GAMES!D32,GAMES!D64,GAMES!D96,GAMES!D128,GAMES!D160,GAMES!D192,GAMES!D224,GAMES!D256,GAMES!D288,GAMES!D320,GAMES!D352,GAMES!D384,GAMES!D416,GAMES!D448,GAMES!D480,GAMES!D512,GAMES!D544,GAMES!D576,GAMES!D608,GAMES!D640) -> 0 | G27: =SUM(GAMES!E32,GAMES!E64,GAMES!E96,GAMES!E128,GAMES!E160,GAMES!E192,GAMES!E224,GAMES!E256,GAMES!E288,GAMES!E320,GAMES!E352,GAMES!E384,GAMES!E416,GAMES!E448,GAMES!E480,GAMES!E512,GAMES!E544,GAMES!E576,GAMES!E608,GAMES!E640) -> 0 | H27: =SUM(GAMES!F32,GAMES!F64,GAMES!F96,GAMES!F128,GAMES!F160,GAMES!F192,GAMES!F224,GAMES!F256,GAMES!F288,GAMES!F320,GAMES!F352,GAMES!F384,GAMES!F416,GAMES!F448,GAMES!F480,GAMES!F512,GAMES!F544,GAMES!F576,GAMES!F608,GAMES!F640) -> 0 | I27: =SUM(GAMES!G32,GAMES!G64,GAMES!G96,GAMES!G128,GAMES!G160,GAMES!G192,GAMES!G224,GAMES!G256,GAMES!G288,GAMES!G320,GAMES!G352,GAMES!G384,GAMES!G416,GAMES!G448,GAMES!G480,GAMES!G512,GAMES!G544,GAMES!G576,GAMES!G608,GAMES!G640) -> 0 | J27: =SUM(GAMES!H32,GAMES!H64,GAMES!H96,GAMES!H128,GAMES!H160,GAMES!H192,GAMES!H224,GAMES!H256,GAMES!H288,GAMES!H320,GAMES!H352,GAMES!H384,GAMES!H416,GAMES!H448,GAMES!H480,GAMES!H512,GAMES!H544,GAMES!H576,GAMES!H608,GAMES!H640) -> 0 | K27: =SUM(GAMES!I32,GAMES!I64,GAMES!I96,GAMES!I128,GAMES!I160,GAMES!I192,GAMES!I224,GAMES!I256,GAMES!I288,GAMES!I320,GAMES!I352,GAMES!I384,GAMES!I416,GAMES!I448,GAMES!I480,GAMES!I512,GAMES!I544,GAMES!I576,GAMES!I608,GAMES!I640) -> 0 | L27: =SUM(GAMES!J32,GAMES!J64,GAMES!J96,GAMES!J128,GAMES!J160,GAMES!J192,GAMES!J224,GAMES!J256,GAMES!J288,GAMES!J320,GAMES!J352,GAMES!J384,GAMES!J416,GAMES!J448,GAMES!J480,GAMES!J512,GAMES!J544,GAMES!J576,GAMES!J608,GAMES!J640) -> 0 | M27: =IF(OR(D27=0,F27=0),0,G27/F27) -> 0 | N27: --------- | P27: =IF(AND(D27>=4,B27<>""),"Yes","No") -> No
A28: 22 | D28: =SUM(GAMES!B33,GAMES!B65,GAMES!B97,GAMES!B129,GAMES!B161,GAMES!B193,GAMES!B225,GAMES!B257,GAMES!B289,GAMES!B321,GAMES!B353,GAMES!B385,GAMES!B417,GAMES!B449,GAMES!B481,GAMES!B513,GAMES!B545,GAMES!B577,GAMES!B609,GAMES!B641) -> 1 | E28: =SUM(GAMES!C33,GAMES!C65,GAMES!C97,GAMES!C129,GAMES!C161,GAMES!C193,GAMES!C225,GAMES!C257,GAMES!C289,GAMES!C321,GAMES!C353,GAMES!C385,GAMES!C417,GAMES!C449,GAMES!C481,GAMES!C513,GAMES!C545,GAMES!C577,GAMES!C609,GAMES!C641) -> 0 | F28: =SUM(GAMES!D33,GAMES!D65,GAMES!D97,GAMES!D129,GAMES!D161,GAMES!D193,GAMES!D225,GAMES!D257,GAMES!D289,GAMES!D321,GAMES!D353,GAMES!D385,GAMES!D417,GAMES!D449,GAMES!D481,GAMES!D513,GAMES!D545,GAMES!D577,GAMES!D609,GAMES!D641) -> 0 | G28: =SUM(GAMES!E33,GAMES!E65,GAMES!E97,GAMES!E129,GAMES!E161,GAMES!E193,GAMES!E225,GAMES!E257,GAMES!E289,GAMES!E321,GAMES!E353,GAMES!E385,GAMES!E417,GAMES!E449,GAMES!E481,GAMES!E513,GAMES!E545,GAMES!E577,GAMES!E609,GAMES!E641) -> 0 | H28: =SUM(GAMES!F33,GAMES!F65,GAMES!F97,GAMES!F129,GAMES!F161,GAMES!F193,GAMES!F225,GAMES!F257,GAMES!F289,GAMES!F321,GAMES!F353,GAMES!F385,GAMES!F417,GAMES!F449,GAMES!F481,GAMES!F513,GAMES!F545,GAMES!F577,GAMES!F609,GAMES!F641) -> 0 | I28: =SUM(GAMES!G33,GAMES!G65,GAMES!G97,GAMES!G129,GAMES!G161,GAMES!G193,GAMES!G225,GAMES!G257,GAMES!G289,GAMES!G321,GAMES!G353,GAMES!G385,GAMES!G417,GAMES!G449,GAMES!G481,GAMES!G513,GAMES!G545,GAMES!G577,GAMES!G609,GAMES!G641) -> 0 | J28: =SUM(GAMES!H33,GAMES!H65,GAMES!H97,GAMES!H129,GAMES!H161,GAMES!H193,GAMES!H225,GAMES!H257,GAMES!H289,GAMES!H321,GAMES!H353,GAMES!H385,GAMES!H417,GAMES!H449,GAMES!H481,GAMES!H513,GAMES!H545,GAMES!H577,GAMES!H609,GAMES!H641) -> 0 | K28: =SUM(GAMES!I33,GAMES!I65,GAMES!I97,GAMES!I129,GAMES!I161,GAMES!I193,GAMES!I225,GAMES!I257,GAMES!I289,GAMES!I321,GAMES!I353,GAMES!I385,GAMES!I417,GAMES!I449,GAMES!I481,GAMES!I513,GAMES!I545,GAMES!I577,GAMES!I609,GAMES!I641) -> 0 | L28: =SUM(GAMES!J33,GAMES!J65,GAMES!J97,GAMES!J129,GAMES!J161,GAMES!J193,GAMES!J225,GAMES!J257,GAMES!J289,GAMES!J321,GAMES!J353,GAMES!J385,GAMES!J417,GAMES!J449,GAMES!J481,GAMES!J513,GAMES!J545,GAMES!J577,GAMES!J609,GAMES!J641) -> 0 | M28: =IF(OR(D28=0,F28=0),0,G28/F28) -> 0 | N28: --------- | P28: =IF(AND(D28>=4,B28<>""),"Yes","No") -> No
A29: 23 | D29: =SUM(GAMES!B34,GAMES!B66,GAMES!B98,GAMES!B130,GAMES!B162,GAMES!B194,GAMES!B226,GAMES!B258,GAMES!B290,GAMES!B322,GAMES!B354,GAMES!B386,GAMES!B418,GAMES!B450,GAMES!B482,GAMES!B514,GAMES!B546,GAMES!B578,GAMES!B610,GAMES!B642) -> 1 | E29: =SUM(GAMES!C34,GAMES!C66,GAMES!C98,GAMES!C130,GAMES!C162,GAMES!C194,GAMES!C226,GAMES!C258,GAMES!C290,GAMES!C322,GAMES!C354,GAMES!C386,GAMES!C418,GAMES!C450,GAMES!C482,GAMES!C514,GAMES!C546,GAMES!C578,GAMES!C610,GAMES!C642) -> 0 | F29: =SUM(GAMES!D34,GAMES!D66,GAMES!D98,GAMES!D130,GAMES!D162,GAMES!D194,GAMES!D226,GAMES!D258,GAMES!D290,GAMES!D322,GAMES!D354,GAMES!D386,GAMES!D418,GAMES!D450,GAMES!D482,GAMES!D514,GAMES!D546,GAMES!D578,GAMES!D610,GAMES!D642) -> 0 | G29: =SUM(GAMES!E34,GAMES!E66,GAMES!E98,GAMES!E130,GAMES!E162,GAMES!E194,GAMES!E226,GAMES!E258,GAMES!E290,GAMES!E322,GAMES!E354,GAMES!E386,GAMES!E418,GAMES!E450,GAMES!E482,GAMES!E514,GAMES!E546,GAMES!E578,GAMES!E610,GAMES!E642) -> 0 | H29: =SUM(GAMES!F34,GAMES!F66,GAMES!F98,GAMES!F130,GAMES!F162,GAMES!F194,GAMES!F226,GAMES!F258,GAMES!F290,GAMES!F322,GAMES!F354,GAMES!F386,GAMES!F418,GAMES!F450,GAMES!F482,GAMES!F514,GAMES!F546,GAMES!F578,GAMES!F610,GAMES!F642) -> 0 | I29: =SUM(GAMES!G34,GAMES!G66,GAMES!G98,GAMES!G130,GAMES!G162,GAMES!G194,GAMES!G226,GAMES!G258,GAMES!G290,GAMES!G322,GAMES!G354,GAMES!G386,GAMES!G418,GAMES!G450,GAMES!G482,GAMES!G514,GAMES!G546,GAMES!G578,GAMES!G610,GAMES!G642) -> 0 | J29: =SUM(GAMES!H34,GAMES!H66,GAMES!H98,GAMES!H130,GAMES!H162,GAMES!H194,GAMES!H226,GAMES!H258,GAMES!H290,GAMES!H322,GAMES!H354,GAMES!H386,GAMES!H418,GAMES!H450,GAMES!H482,GAMES!H514,GAMES!H546,GAMES!H578,GAMES!H610,GAMES!H642) -> 0 | K29: =SUM(GAMES!I34,GAMES!I66,GAMES!I98,GAMES!I130,GAMES!I162,GAMES!I194,GAMES!I226,GAMES!I258,GAMES!I290,GAMES!I322,GAMES!I354,GAMES!I386,GAMES!I418,GAMES!I450,GAMES!I482,GAMES!I514,GAMES!I546,GAMES!I578,GAMES!I610,GAMES!I642) -> 0 | L29: =SUM(GAMES!J34,GAMES!J66,GAMES!J98,GAMES!J130,GAMES!J162,GAMES!J194,GAMES!J226,GAMES!J258,GAMES!J290,GAMES!J322,GAMES!J354,GAMES!J386,GAMES!J418,GAMES!J450,GAMES!J482,GAMES!J514,GAMES!J546,GAMES!J578,GAMES!J610,GAMES!J642) -> 0 | M29: =IF(OR(D29=0,F29=0),0,G29/F29) -> 0 | N29: --------- | P29: =IF(AND(D29>=4,B29<>""),"Yes","No") -> No
A30: 24 | D30: =SUM(GAMES!B35,GAMES!B67,GAMES!B99,GAMES!B131,GAMES!B163,GAMES!B195,GAMES!B227,GAMES!B259,GAMES!B291,GAMES!B323,GAMES!B355,GAMES!B387,GAMES!B419,GAMES!B451,GAMES!B483,GAMES!B515,GAMES!B547,GAMES!B579,GAMES!B611,GAMES!B643) -> 1 | E30: =SUM(GAMES!C35,GAMES!C67,GAMES!C99,GAMES!C131,GAMES!C163,GAMES!C195,GAMES!C227,GAMES!C259,GAMES!C291,GAMES!C323,GAMES!C355,GAMES!C387,GAMES!C419,GAMES!C451,GAMES!C483,GAMES!C515,GAMES!C547,GAMES!C579,GAMES!C611,GAMES!C643) -> 0 | F30: =SUM(GAMES!D35,GAMES!D67,GAMES!D99,GAMES!D131,GAMES!D163,GAMES!D195,GAMES!D227,GAMES!D259,GAMES!D291,GAMES!D323,GAMES!D355,GAMES!D387,GAMES!D419,GAMES!D451,GAMES!D483,GAMES!D515,GAMES!D547,GAMES!D579,GAMES!D611,GAMES!D643) -> 0 | G30: =SUM(GAMES!E35,GAMES!E67,GAMES!E99,GAMES!E131,GAMES!E163,GAMES!E195,GAMES!E227,GAMES!E259,GAMES!E291,GAMES!E323,GAMES!E355,GAMES!E387,GAMES!E419,GAMES!E451,GAMES!E483,GAMES!E515,GAMES!E547,GAMES!E579,GAMES!E611,GAMES!E643) -> 0 | H30: =SUM(GAMES!F35,GAMES!F67,GAMES!F99,GAMES!F131,GAMES!F163,GAMES!F195,GAMES!F227,GAMES!F259,GAMES!F291,GAMES!F323,GAMES!F355,GAMES!F387,GAMES!F419,GAMES!F451,GAMES!F483,GAMES!F515,GAMES!F547,GAMES!F579,GAMES!F611,GAMES!F643) -> 0 | I30: =SUM(GAMES!G35,GAMES!G67,GAMES!G99,GAMES!G131,GAMES!G163,GAMES!G195,GAMES!G227,GAMES!G259,GAMES!G291,GAMES!G323,GAMES!G355,GAMES!G387,GAMES!G419,GAMES!G451,GAMES!G483,GAMES!G515,GAMES!G547,GAMES!G579,GAMES!G611,GAMES!G643) -> 0 | J30: =SUM(GAMES!H35,GAMES!H67,GAMES!H99,GAMES!H131,GAMES!H163,GAMES!H195,GAMES!H227,GAMES!H259,GAMES!H291,GAMES!H323,GAMES!H355,GAMES!H387,GAMES!H419,GAMES!H451,GAMES!H483,GAMES!H515,GAMES!H547,GAMES!H579,GAMES!H611,GAMES!H643) -> 0 | K30: =SUM(GAMES!I35,GAMES!I67,GAMES!I99,GAMES!I131,GAMES!I163,GAMES!I195,GAMES!I227,GAMES!I259,GAMES!I291,GAMES!I323,GAMES!I355,GAMES!I387,GAMES!I419,GAMES!I451,GAMES!I483,GAMES!I515,GAMES!I547,GAMES!I579,GAMES!I611,GAMES!I643) -> 0 | L30: =SUM(GAMES!J35,GAMES!J67,GAMES!J99,GAMES!J131,GAMES!J163,GAMES!J195,GAMES!J227,GAMES!J259,GAMES!J291,GAMES!J323,GAMES!J355,GAMES!J387,GAMES!J419,GAMES!J451,GAMES!J483,GAMES!J515,GAMES!J547,GAMES!J579,GAMES!J611,GAMES!J643) -> 0 | M30: =IF(OR(D30=0,F30=0),0,G30/F30) -> 0 | N30: --------- | P30: =IF(AND(D30>=4,B30<>""),"Yes","No") -> No
A31: 25 | D31: =SUM(GAMES!B36,GAMES!B68,GAMES!B100,GAMES!B132,GAMES!B164,GAMES!B196,GAMES!B228,GAMES!B260,GAMES!B292,GAMES!B324,GAMES!B356,GAMES!B388,GAMES!B420,GAMES!B452,GAMES!B484,GAMES!B516,GAMES!B548,GAMES!B580,GAMES!B612,GAMES!B644) -> 1 | E31: =SUM(GAMES!C36,GAMES!C68,GAMES!C100,GAMES!C132,GAMES!C164,GAMES!C196,GAMES!C228,GAMES!C260,GAMES!C292,GAMES!C324,GAMES!C356,GAMES!C388,GAMES!C420,GAMES!C452,GAMES!C484,GAMES!C516,GAMES!C548,GAMES!C580,GAMES!C612,GAMES!C644) -> 0 | F31: =SUM(GAMES!D36,GAMES!D68,GAMES!D100,GAMES!D132,GAMES!D164,GAMES!D196,GAMES!D228,GAMES!D260,GAMES!D292,GAMES!D324,GAMES!D356,GAMES!D388,GAMES!D420,GAMES!D452,GAMES!D484,GAMES!D516,GAMES!D548,GAMES!D580,GAMES!D612,GAMES!D644) -> 0 | G31: =SUM(GAMES!E36,GAMES!E68,GAMES!E100,GAMES!E132,GAMES!E164,GAMES!E196,GAMES!E228,GAMES!E260,GAMES!E292,GAMES!E324,GAMES!E356,GAMES!E388,GAMES!E420,GAMES!E452,GAMES!E484,GAMES!E516,GAMES!E548,GAMES!E580,GAMES!E612,GAMES!E644) -> 0 | H31: =SUM(GAMES!F36,GAMES!F68,GAMES!F100,GAMES!F132,GAMES!F164,GAMES!F196,GAMES!F228,GAMES!F260,GAMES!F292,GAMES!F324,GAMES!F356,GAMES!F388,GAMES!F420,GAMES!F452,GAMES!F484,GAMES!F516,GAMES!F548,GAMES!F580,GAMES!F612,GAMES!F644) -> 0 | I31: =SUM(GAMES!G36,GAMES!G68,GAMES!G100,GAMES!G132,GAMES!G164,GAMES!G196,GAMES!G228,GAMES!G260,GAMES!G292,GAMES!G324,GAMES!G356,GAMES!G388,GAMES!G420,GAMES!G452,GAMES!G484,GAMES!G516,GAMES!G548,GAMES!G580,GAMES!G612,GAMES!G644) -> 0 | J31: =SUM(GAMES!H36,GAMES!H68,GAMES!H100,GAMES!H132,GAMES!H164,GAMES!H196,GAMES!H228,GAMES!H260,GAMES!H292,GAMES!H324,GAMES!H356,GAMES!H388,GAMES!H420,GAMES!H452,GAMES!H484,GAMES!H516,GAMES!H548,GAMES!H580,GAMES!H612,GAMES!H644) -> 0 | K31: =SUM(GAMES!I36,GAMES!I68,GAMES!I100,GAMES!I132,GAMES!I164,GAMES!I196,GAMES!I228,GAMES!I260,GAMES!I292,GAMES!I324,GAMES!I356,GAMES!I388,GAMES!I420,GAMES!I452,GAMES!I484,GAMES!I516,GAMES!I548,GAMES!I580,GAMES!I612,GAMES!I644) -> 0 | L31: =SUM(GAMES!J36,GAMES!J68,GAMES!J100,GAMES!J132,GAMES!J164,GAMES!J196,GAMES!J228,GAMES!J260,GAMES!J292,GAMES!J324,GAMES!J356,GAMES!J388,GAMES!J420,GAMES!J452,GAMES!J484,GAMES!J516,GAMES!J548,GAMES!J580,GAMES!J612,GAMES!J644) -> 0 | M31: =IF(OR(D31=0,F31=0),0,G31/F31) -> 0 | N31: --------- | P31: =IF(AND(D31>=4,B31<>""),"Yes","No") -> No
A33: TOTALS | E33: =SUM(E7:E32) -> 788 | F33: =SUM(F7:F32) -> 732 | G33: =SUM(G7:G32) -> 355 | H33: =SUM(H7:H31) -> 255 | I33: =SUM(I7:I31) -> 233 | J33: =SUM(J7:J31) -> 21 | K33: =SUM(K7:K31) -> 37 | L33: =SUM(L7:L31) -> 34 | M33: =IF(F33=0,"N/A",G33/F33) -> 0.48497268 | P33: =CONCATENATE(COUNTIF(P7:P31,"Yes")," Players Eligible") -> 14 Players Eligible

Sheet GAMES
BD1: =1
A2: Team Name: | B2: ='Team Card'!$C$2 -> Big Buddha | D2: Jump To: | F2: Game 1 | G2: Game 5 | H2: Game 9 | I2: Game 13 | J2: Game 17 | BD2: =2
F3: Game 2 | G3: Game 6 | H3: Game 10 | I3: Game 14 | J3: Game 18
A4: Wins: | B4: =SUM(K9,K41,K73,K105,K137,K169,K201,K233,K265,K297,K329,K361,K393,K425,K457,K489,K521,K553,K585,K617) -> 12 | F4: Game 3 | G4: Game 7 | H4: Game 11 | I4: Game 15 | J4: Game 19
A5: Losses: | B5: =SUM(L9,L41,L73,L105,L137,L169,L201,L233,L265,L297,L329,L361,L393,L425,L457,L489,L521,L553,L585,L617) -> 8 | F5: Game 4 | G5: Game 8 | H5: Game 12 | I5: Game 16 | J5: Game 20
AZ6: Select a Result…
A7: GAME 1 | AW7: Select a Team… | AZ7: Win | BB7: Select…
AW8: ABC Fuel | AZ8: Loss | BB8: Yes | BD8: 3
A9: Game Date: | B9: 43220 | D9: Result: | E9: Win | G9: Opponent: | H9: Big Buddha Bethel | K9: =IF(OR(E9="Win",E9="Win (FORFEIT)"),1,0) -> 1 | L9: =IF(OR(E9="Loss",E9="Loss (FORFEIT)"),1,0) -> 0 | M9: =IF(B9<>"",1,0) -> 1 | AW9: Bulldogs | AZ9: Win (FORFEIT) | BB9: No | BD9: 4
M10: 0 | AW10: Bethel Wine & Spirits | AZ10: Loss (FORFEIT) | BD10: 5
A11: Player | B11: GP | C11: PA | D11: AB | E11: H | F11: Runs | G11: RBIs | H11: SAC | I11: BB | J11: HR | L11: GP (Field Only) | M11: 0 | AW11: Farmboy's BBQ | BD11: 6
A12: =IF('Team Card'!$B$7="","",'Team Card'!$B$7) -> Tony Willie | B12: 1 | C12: 4 | D12: 4 | E12: 2 | F12: 2 | G12: 2 | L12: No | M12: 0 | AW12: K&T | BD12: 7
A13: =IF('Team Card'!$B$8="","",'Team Card'!$B$8) -> Tyler Edwards | B13: 1 | C13: 4 | D13: 4 | E13: 1 | G13: 2 | L13: No | M13: 0 | AW13: STL | BD13: 8
A14: =IF('Team Card'!$B$9="","",'Team Card'!$B$9) -> Connor Miller | B14: 1 | C14: 4 | D14: 4 | E14: 2 | F14: 1 | G14: 2 | J14: 1 | L14: No | M14: 0 | AW14: Big Buddha Bethel | BD14: 9
A15: =IF('Team Card'!$B$10="","",'Team Card'!$B$10) -> Charlie Coates | B15: 1 | C15: 4 | D15: 3 | E15: 0 | F15: 1 | I15: 1 | L15: No | M15: 0 | AW15: Wamprats | BD15: 10
A16: =IF('Team Card'!$B$11="","",'Team Card'!$B$11) -> Matt Myslewski | B16: 1 | C16: 4 | D16: 4 | E16: 3 | F16: 1 | G16: 1 | L16: No | M16: 0 | BD16: 11
A17: =IF('Team Card'!$B$12="","",'Team Card'!$B$12) -> Jeremy Graves | B17: 1 | C17: 4 | D17: 4 | E17: 2 | F17: 1 | G17: 1 | L17: No | M17: 0 | BD17: 12
A18: =IF('Team Card'!$B$13="","",'Team Card'!$B$13) -> Joe Brown | B18: 1 | C18: 3 | D18: 3 | E18: 1 | L18: No | M18: 0 | BD18: 13
A19: =IF('Team Card'!$B$14="","",'Team Card'!$B$14) -> Kyle Markward | B19: 1 | C19: 3 | D19: 3 | E19: 1 | F19: 2 | G19: 1 | L19: No | M19: 0 | BD19: 14
A20: =IF('Team Card'!$B$15="","",'Team Card'!$B$15) -> Matt Tavella | B20: 1 | C20: 3 | D20: 3 | E20: 2 | F20: 2 | L20: No | M20: 0 | BD20: 15
A21: =IF('Team Card'!$B$16="","",'Team Card'!$B$16) -> J Aminti | B21: 1 | C21: 2 | D21: 2 | E21: 2 | F21: 1 | G21: 1 | H21: 1 | L21: No | M21: 0 | BD21: 16
A22: =IF('Team Card'!$B$17="","",'Team Card'!$B$17) -> DJ Bruckenthal | L22: No | M22: 0 | BD22: 17
A23: =IF('Team Card'!$B$18="","",'Team Card'!$B$18) -> Joe Coates | L23: No | M23: 0 | BD23: 18
A24: =IF('Team Card'!$B$19="","",'Team Card'!$B$19) -> Joe Como | L24: No | M24: 0 | BD24: 19
A25: =IF('Team Card'!$B$20="","",'Team Card'!$B$20) -> Mike Coates | L25: No | M25: 0 | BD25: 20
A26: =IF('Team Card'!$B$21="","",'Team Card'!$B$21) -> Jack Miller | L26: No | M26: 0
A27: =IF('Team Card'!$B$22="","",'Team Card'!$B$22) -> Mark Fracker | L27: No | M27: 0
A28: =IF('Team Card'!$B$23="","",'Team Card'!$B$23) -> Dave Coates | L28: No | M28: 0
A29: =IF('Team Card'!$B$24="","",'Team Card'!$B$24) -> Enzo Cardillo | L29: No | M29: 0
A30: =IF('Team Card'!$B$25="","",'Team Card'!$B$25) -> Joe Forlastro | L30: No | M30: 0
A31: =IF('Team Card'!$B$26="","",'Team Card'!$B$26) -> Tim Frawley | L31: No | M31: 0
A32: =IF('Team Card'!$B$27="","",'Team Card'!$B$27) | L32: No | M32: 0
A33: =IF('Team Card'!$B$28="","",'Team Card'!$B$28) | L33: No | M33: 0
A34: =IF('Team Card'!$B$29="","",'Team Card'!$B$29) | B34: =IF(OR(GameCard[[#This Row],[PA]]>0,$E$9="Win (FORFEIT)",L34="Yes"),1,"") | L34: No | M34: 0
A35: =IF('Team Card'!$B$30="","",'Team Card'!$B$30) | B35: =IF(OR(GameCard[[#This Row],[PA]]>0,$E$9="Win (FORFEIT)",L35="Yes"),1,"") | L35: No | M35: 0
A36: =IF('Team Card'!$B$31="","",'Team Card'!$B$31) | B36: =IF(OR(GameCard[[#This Row],[PA]]>0,$E$9="Win (FORFEIT)",L36="Yes"),1,"") | L36: No | M36: 0
A37: Team Totals: | B37: =IF(OR(GameCard[[#This Row],[PA]]>0,$E$9="Win (FORFEIT)",L37="Yes"),1,"") -> 1 | C37: =SUM(C12:C36) -> 35 | D37: =SUM(D12:D36) -> 34 | E37: =SUM(E12:E36) -> 16 | F37: =SUM(F12:F36) -> 11 | G37: =SUM(G12:G36) -> 10 | H37: =SUM(H12:H36) -> 1 | I37: =SUM(I12:I36) -> 1 | J37: =SUM(J12:J36) -> 1 | M37: 0
M38: 0
A39: GAME 2 | M39: 0
M40: 0
A41: Game Date: | B41: 43227 | D41: Result: | E41: Win | G41: Opponent: | H41: K&T | K41: =IF(OR(E41="Win",E41="Win (FORFEIT)"),1,0) -> 1 | L41: =IF(OR(E41="Loss",E41="Loss (FORFEIT)"),1,0) -> 0 | M41: =IF(B41<>"",1,0) -> 1
M42: 0
A43: Player | B43: GP | C43: PA | D43: AB | E43: H | F43: Runs | G43: RBIs | H43: SAC | I43: BB | J43: HR | L43: GP (Field Only) | M43: 0
A44: =IF('Team Card'!$B$7="","",'Team Card'!$B$7) -> Tony Willie | B44: 1 | C44: 4 | D44: 3 | E44: 0 | I44: 1 | L44: No | M44: 0
A45: =IF('Team Card'!$B$8="","",'Team Card'!$B$8) -> Tyler Edwards | B45: 1 | C45: 4 | D45: 4 | E45: 4 | F45: 2 | G45: 1 | J45: 1 | L45: No | M45: 0
A46: =IF('Team Card'!$B$9="","",'Team Card'!$B$9) -> Connor Miller | B46: 1 | C46: 4 | D46: 4 | E46: 2 | F46: 2 | G46: 1 | J46: 1 | L46: No | M46: 0
A47: =IF('Team Card'!$B$10="","",'Team Card'!$B$10) -> Charlie Coates | L47: No | M47: 0
A48: =IF('Team Card'!$B$11="","",'Team Card'!$B$11) -> Matt Myslewski | B48: 1 | C48: 4 | D48: 4 | E48: 2 | F48: 1 | G48: 1 | L48: No | M48: 0
A49: =IF('Team Card'!$B$12="","",'Team Card'!$B$12) -> Jeremy Graves | B49: 1 | C49: 3 | D49: 3 | E49: 2 | F49: 1 | G49: 1 | L49: No | M49: 0
A50: =IF('Team Card'!$B$13="","",'Team Card'!$B$13) -> Joe Brown | B50: 1 | C50: 3 | D50: 3 | E50: 0 | L50: No | M50: 0
A51: =IF('Team Card'!$B$14="","",'Team Card'!$B$14) -> Kyle Markward | B51: 1 | C51: 3 | D51: 3 | E51: 0 | L51: No | M51: 0
A52: =IF('Team Card'!$B$15="","",'Team Card'!$B$15) -> Matt Tavella | L52: No | M52: 0
A53: =IF('Team Card'!$B$16="","",'Team Card'!$B$16) -> J Aminti | L53: No | M53: 0
A54: =IF('Team Card'!$B$17="","",'Team Card'!$B$17) -> DJ Bruckenthal | B54: 1 | C54: 3 | D54: 3 | E54: 2 | F54: 2 | G54: 3 | J54: 1 | L54: No | M54: 0
A55: =IF('Team Card'!$B$18="","",'Team Card'!$B$18) -> Joe Coates | B55: 1 | C55: 3 | D55: 3 | E55: 1 | L55: No | M55: 0
A56: =IF('Team Card'!$B$19="","",'Team Card'!$B$19) -> Joe Como | B56: 1 | C56: 3 | D56: 3 | E56: 1 | G56: 1 | L56: No | M56: 0
A57: =IF('Team Card'!$B$20="","",'Team Card'!$B$20) -> Mike Coates | B57: 1 | C57: 3 | D57: 3 | E57: 0 | L57: No | M57: 0
A58: =IF('Team Card'!$B$21="","",'Team Card'!$B$21) -> Jack Miller | L58: No | M58: 0
A59: =IF('Team Card'!$B$22="","",'Team Card'!$B$22) -> Mark Fracker | L59: No | M59: 0
A60: =IF('Team Card'!$B$23="","",'Team Card'!$B$23) -> Dave Coates | L60: No | M60: 0
A61: =IF('Team Card'!$B$24="","",'Team Card'!$B$24) -> Enzo Cardillo | L61: No | M61: 0
A62: =IF('Team Card'!$B$25="","",'Team Card'!$B$25) -> Joe Forlastro | L62: No | M62: 0
A63: =IF('Team Card'!$B$26="","",'Team Card'!$B$26) -> Tim Frawley | L63: No | M63: 0
A64: =IF('Team Card'!$B$27="","",'Team Card'!$B$27) | L64: No | M64: 0
A65: =IF('Team Card'!$B$28="","",'Team Card'!$B$28) | B65: =IF(OR(GameCard3[[#This Row],[PA]]>0,$E$41="Win (FORFEIT)",L65="Yes"),1,"") | L65: No | M65: 0
A66: =IF('Team Card'!$B$29="","",'Team Card'!$B$29) | B66: =IF(OR(GameCard3[[#This Row],[PA]]>0,$E$41="Win (FORFEIT)",L66="Yes"),1,"") | L66: No | M66: 0
A67: =IF('Team Card'!$B$30="","",'Team Card'!$B$30) | B67: =IF(OR(GameCard3[[#This Row],[PA]]>0,$E$41="Win (FORFEIT)",L67="Yes"),1,"") | L67: No | M67: 0
A68: =IF('Team Card'!$B$31="","",'Team Card'!$B$31) | B68: =IF(OR(GameCard3[[#This Row],[PA]]>0,$E$41="Win (FORFEIT)",L68="Yes"),1,"") | L68: No | M68: 0
A69: Team Totals: | B69: =IF(OR(GameCard3[[#This Row],[PA]]>0,$E$41="Win (FORFEIT)",L69="Yes"),1,"") -> 1 | C69: =SUM(C44:C68) -> 37 | D69: =SUM(D44:D68) -> 36 | E69: =SUM(E44:E68) -> 14 | F69: =SUM(F44:F68) -> 8 | G69: =SUM(G44:G68) -> 8 | H69: =SUM(H44:H68) -> 0 | I69: =SUM(I44:I68) -> 1 | J69: =SUM(J44:J68) -> 3 | M69: 0
M70: 0
A71: GAME 3 | M71: 0
M72: 0
A73: Game Date: | B73: 43234 | D73: Result: | E73: Loss | G73: Opponent: | H73: ABC Fuel | K73: =IF(OR(E73="Win",E73="Win (FORFEIT)"),1,0) -> 0 | L73: =IF(OR(E73="Loss",E73="Loss (FORFEIT)"),1,0) -> 1 | M73: =IF(B73<>"",1,0) -> 1
M74: 0
A75: Player | B75: GP | C75: PA | D75: AB | E75: H | F75: Runs | G75: RBIs | H75: SAC | I75: BB | J75: HR | L75: GP (Field Only) | M75: 0
A76: =IF('Team Card'!$B$7="","",'Team Card'!$B$7) -> Tony Willie | L76: No | M76: 0
A77: =IF('Team Card'!$B$8="","",'Team Card'!$B$8) -> Tyler Edwards | B77: 1 | C77: 4 | D77: 4 | E77: 2 | F77: 1 | L77: No | M77: 0
A78: =IF('Team Card'!$B$9="","",'Team Card'!$B$9) -> Connor Miller | B78: 1 | C78: 4 | D78: 4 | E78: 3 | F78: 2 | G78: 5 | J78: 2 | L78: No | M78: 0
A79: =IF('Team Card'!$B$10="","",'Team Card'!$B$10) -> Charlie Coates | B79: 1 | C79: 4 | D79: 4 | E79: 1 | L79: No | M79: 0
A80: =IF('Team Card'!$B$11="","",'Team Card'!$B$11) -> Matt Myslewski | B80: 1 | C80: 4 | D80: 4 | E80: 0 | L80: No | M80: 0
A81: =IF('Team Card'!$B$12="","",'Team Card'!$B$12) -> Jeremy Graves | B81: 1 | C81: 3 | D81: 3 | E81: 1 | L81: No | M81: 0
A82: =IF('Team Card'!$B$13="","",'Team Card'!$B$13) -> Joe Brown | B82: 1 | C82: 3 | D82: 3 | E82: 1 | F82: 1 | G82: 1 | L82: No | M82: 0
A83: =IF('Team Card'!$B$14="","",'Team Card'!$B$14) -> Kyle Markward | B83: 1 | C83: 3 | D83: 3 | E83: 3 | F83: 2 | L83: No | M83: 0
A84: =IF('Team Card'!$B$15="","",'Team Card'!$B$15) -> Matt Tavella | L84: No | M84: 0
A85: =IF('Team Card'!$B$16="","",'Team Card'!$B$16) -> J Aminti | L85: No | M85: 0
A86: =IF('Team Card'!$B$17="","",'Team Card'!$B$17) -> DJ Bruckenthal | B86: 1 | C86: 3 | D86: 3 | E86: 0 | L86: No | M86: 0
A87: =IF('Team Card'!$B$18="","",'Team Card'!$B$18) -> Joe Coates | L87: No | M87: 0
A88: =IF('Team Card'!$B$19="","",'Team Card'!$B$19) -> Joe Como | B88: 1 | C88: 3 | D88: 3 | E88: 1 | L88: No | M88: 0
A89: =IF('Team Card'!$B$20="","",'Team Card'!$B$20) -> Mike Coates | B89: 1 | C89: 3 | D89: 2 | E89: 1 | F89: 1 | G89: 1 | H89: 1 | L89: No | M89: 0
A90: =IF('Team Card'!$B$21="","",'Team Card'!$B$21) -> Jack Miller | L90: No | M90: 0
A91: =IF('Team Card'!$B$22="","",'Team Card'!$B$22) -> Mark Fracker | L91: No | M91: 0
A92: =IF('Team Card'!$B$23="","",'Team Card'!$B$23) -> Dave Coates | L92: No | M92: 0
A93: =IF('Team Card'!$B$24="","",'Team Card'!$B$24) -> Enzo Cardillo | L93: No | M93: 0
A94: =IF('Team Card'!$B$25="","",'Team Card'!$B$25) -> Joe Forlastro | L94: No | M94: 0
A95: =IF('Team Card'!$B$26="","",'Team Card'!$B$26) -> Tim Frawley | L95: No | M95: 0
A96: =IF('Team Card'!$B$27="","",'Team Card'!$B$27) | L96: No | M96: 0
A97: =IF('Team Card'!$B$28="","",'Team Card'!$B$28) | L97: No | M97: 0
A98: =IF('Team Card'!$B$29="","",'Team Card'!$B$29) | L98: No | M98: 0
A99: =IF('Team Card'!$B$30="","",'Team Card'!$B$30) | B99: =IF(OR(GameCard4[[#This Row],[PA]]>0,$E$73="Win (FORFEIT)",L99="Yes"),1,"") | L99: No | M99: 0
A100: =IF('Team Card'!$B$31="","",'Team Card'!$B$31) | B100: =IF(OR(GameCard4[[#This Row],[PA]]>0,$E$73="Win (FORFEIT)",L100="Yes"),1,"") | L100: No | M100: 0
...
